{"text_format":"3","workbook":"xlsx","n_sheets":10,"sheets":["车辆2021年","2025年1季度固体废物管理台账","车辆2025年1季度","2025年2季度固体废物管理台账","车辆2025年2季度","2025年3季度固体废物管理台账","车辆2025年3季度 ","2025年4季度固体废物管理台账","车辆2025年4季度","2021年固体废物管理台账"],"not_rendered":{"defined_names":1},"read":"whole","date_system":"1900"}

{"sheet":"车辆2021年","index":0,"n_rows":6,"n_cols":7,"rows_kept":6,"hidden":true,"merged":[[0,0,0,6]]}
["北京华新凯业物资再生有限公司2021年报废车辆管理台账"]
["序号","车辆类别","单位","前期贮存量","回收量","处置量","贮存量"]
[1,"货车","辆",15,901,900,16]
[2,"客车","辆",308,9490,8786,1012]
[3,"其他","辆",6,8283,8277,12]
[null,"总计","辆",329,18674,17963,1040]

{"sheet":"2025年1季度固体废物管理台账","index":1,"n_rows":17,"n_cols":10,"rows_kept":17,"hidden":true,"merged":[[0,0,0,8]]}
["北京华新凯业物资再生有限公司2025年1季度固体废物管理台账"]
["序号","物料名称","库存单位","前期贮存量","产生量","处理量","流向","贮存量","属性"]
[1,"废锂电池","吨",11.3,5.38,5.87,"委托外单位利用",{"$f":"D3+E3-F3","v":10.81}]
[2,"废钢铁","吨",121.5,6504.34,6007.77,"委托外单位利用",618.07]
[3,"废铝","吨",65.6,367.71,341.07,"委托外单位利用",92.24]
[4,"废配件","个",17212,18355,24305,"委托外单位利用",11262]
[5,"废轮胎","吨",4.06,6.96,8.82,"委托外单位利用",2.2]
[6,"废塑料","吨",8.91,114.53,103.84,"委托外单位利用",19.6]
[7,"废铜","吨",39.31,138.39,153.42,"委托外单位利用",24.28]
[8,"废橡胶","吨",6.32,6.67,6.76,"委托外单位利用",6.23]
[9,"废杂料","吨",5.11,1056.02,1054.23,"委托外单位利用",6.89999999999986]
[10,"废铅酸蓄电池","吨",33,{"$f":"F12+H12-D12","v":37.94},32.97,"委托外单位利用",37.97,"危废","原上报时结存量填写的37.97，应为37.79"]
[11,"废机油","吨",8.1,9.9,11.42,"委托外单位处置",6.58,"危废"]
[12,"废三元","吨",1.05,1.62,0,"委托外单位利用",2.67,"危废"]
[13,"其他危废","吨",0.4,0.52,0,"委托外单位处置",0.92,"危废"]
[14,"废线路板","吨",6.24,2.86,0,"委托外单位处置",9.1,"危废"]
[15,"废防冻液","吨",4.5,0.93,0,"委托外单位处置",5.43,"危废"]

{"sheet":"车辆2025年1季度","index":2,"n_rows":26,"n_cols":7,"rows_kept":26,"hidden":true,"merged":[[0,0,0,6]]}
["北京华新凯业物资再生有限公司2025年1季度报废车辆管理台账"]
["序号","车辆类别","单位","前期贮存量","回收量","处置量","贮存量"]
[1,"货车","辆",18,611,601,{"$f":"D3+E3-F3","v":28}]
[2,"客车","辆",561,2065,2329,297]
[3,"其他","辆",144,392,448,88]
[null,"总计","辆",{"$f":"SUM(D3:D5)","v":723},3068,3378,413]
[null,"摩托车","辆",138,362,417,83]
[null,"轮式或者履带式工程机械","辆",0,1,1,0]
[null,"汽车","辆",{"$f":"D6-D7","v":585},{"$f":"E6-E7","v":2706},{"$f":"F6-F7","v":2961},{"$f":"G6-G7","v":330}]
{"$rows_empty":16}
[{"$nulls":3},"a"]

{"sheet":"2025年2季度固体废物管理台账","index":3,"n_rows":17,"n_cols":9,"rows_kept":17,"merged":[[0,0,0,8]]}
["北京华新凯业物资再生有限公司2025年2季度固体废物管理台账"]
["序号","物料名称","库存单位","前期贮存量","产生量","处理量","流向","贮存量","属性"]
[1,"废锂电池","吨",{"$f":"'2025年1季度固体废物管理台账'!H3","v":10.81},129.54,140.35,"委托外单位利用",{"$f":"D3+E3-F3","v":0}]
[2,"废钢铁","吨",{"$f":"'2025年1季度固体废物管理台账'!H4","v":618.07},7099.98,7392.36,"委托外单位利用",{"$f":"D4+E4-F4","v":325.69}]
[3,"废铝","吨",{"$f":"'2025年1季度固体废物管理台账'!H5","v":92.24},424.23,477.67,"委托外单位利用",38.8]
[4,"废配件","个",{"$f":"'2025年1季度固体废物管理台账'!H6","v":11262},26507,25494,"委托外单位利用",12275]
[5,"废轮胎","吨",{"$f":"'2025年1季度固体废物管理台账'!H7","v":2.2},0,0,"委托外单位利用",2.2]
[6,"废塑料","吨",{"$f":"'2025年1季度固体废物管理台账'!H8","v":19.6},167.2,168.92,"委托外单位利用",17.88]
[7,"废铜","吨",{"$f":"'2025年1季度固体废物管理台账'!H9","v":24.28},217.24,221.81,"委托外单位利用",19.71]
[8,"废橡胶","吨",{"$f":"'2025年1季度固体废物管理台账'!H10","v":6.23},13.67,14.97,"委托外单位利用",4.93]
[9,"废杂料","吨",{"$f":"'2025年1季度固体废物管理台账'!H11","v":6.89999999999986},871.2,865.82,"委托外单位利用",12.2799999999999]
[10,"废铅酸蓄电池","吨",37.79,61.85,{"$f":"35.85+36.79","v":72.64},"委托外单位利用",27,"危废"]
[11,"废机油","吨",{"$f":"'2025年1季度固体废物管理台账'!H13","v":6.58},11.21,{"$f":"7.98+6.98","v":14.96},"委托外单位处置",2.83,"危废"]
[12,"废三元","吨",{"$f":"'2025年1季度固体废物管理台账'!H14","v":2.67},12.9,15.34,"委托外单位利用",0.23,"危废"]
[13,"其他危废","吨",{"$f":"'2025年1季度固体废物管理台账'!H15","v":0.92},0,0,"委托外单位处置",0.92,"危废"]
[14,"废线路板","吨",{"$f":"'2025年1季度固体废物管理台账'!H16","v":9.1},5.29,13.01,"委托外单位处置",1.38,"危废"]
[15,"废防冻液","吨",{"$f":"'2025年1季度固体废物管理台账'!H17","v":5.43},18.58,{"$f":"9.23+10.55","v":19.78},"委托外单位处置",4.23,"危废"]

{"sheet":"车辆2025年2季度","index":4,"n_rows":26,"n_cols":7,"rows_kept":26,"merged":[[0,0,0,6]]}
["北京华新凯业物资再生有限公司2025年2季度报废车辆管理台账"]
["序号","车辆类别","单位","前期贮存量","回收量","处置量","贮存量"]
[1,"货车","辆",28,1168,1151,{"$f":"D3+E3-F3","v":45}]
[2,"客车","辆",297,3024,2852,{"$f":"D4+E4-F4","v":469}]
[3,"其他","辆",88,857,778,167]
[null,"总计","辆",{"$f":"SUM(D3:D5)","v":413},5049,4781,681]
[null,"摩托车","辆",83,787,710,160]
[null,"轮式或者履带式工程机械","辆",5,51,49,7]
[null,"汽车","辆",{"$f":"D6-D7-D8","v":325},4211,4022,514]
{"$rows_empty":16}
[{"$nulls":3},"a"]

{"sheet":"2025年3季度固体废物管理台账","index":5,"n_rows":17,"n_cols":9,"rows_kept":17,"hidden":true,"merged":[[0,0,0,8]]}
["北京华新凯业物资再生有限公司2025年3季度固体废物管理台账"]
["序号","物料名称","库存单位","前期贮存量","产生量","处理量","流向","贮存量","属性"]
[1,"废锂电池","吨",{"$f":"'2025年2季度固体废物管理台账'!H3","v":0},null,null,"委托外单位利用",{"$f":"D3+E3-F3","v":0}]
[2,"废钢铁","吨",{"$f":"'2025年2季度固体废物管理台账'!H4","v":325.69},null,null,"委托外单位利用",325.69]
[3,"废铝","吨",{"$f":"'2025年2季度固体废物管理台账'!H5","v":38.8},null,null,"委托外单位利用",38.8]
[4,"废配件","个",{"$f":"'2025年2季度固体废物管理台账'!H6","v":12275},null,null,"委托外单位利用",12275]
[5,"废轮胎","吨",{"$f":"'2025年2季度固体废物管理台账'!H7","v":2.2},null,null,"委托外单位利用",2.2]
[6,"废塑料","吨",{"$f":"'2025年2季度固体废物管理台账'!H8","v":17.88},null,null,"委托外单位利用",17.88]
[7,"废铜","吨",{"$f":"'2025年2季度固体废物管理台账'!H9","v":19.71},null,null,"委托外单位利用",19.71]
[8,"废橡胶","吨",{"$f":"'2025年2季度固体废物管理台账'!H10","v":4.93},null,null,"委托外单位利用",4.93]
[9,"废杂料","吨",{"$f":"'2025年2季度固体废物管理台账'!H11","v":12.2799999999999},null,null,"委托外单位利用",12.2799999999999]
[10,"废铅酸蓄电池","吨",{"$f":"'2025年2季度固体废物管理台账'!H12","v":27},null,null,"委托外单位利用",37.97,"危废"]
[11,"废机油","吨",{"$f":"'2025年2季度固体废物管理台账'!H13","v":2.83},null,null,"委托外单位处置",6.58,"危废"]
[12,"废三元","吨",{"$f":"'2025年2季度固体废物管理台账'!H14","v":0.23},null,null,"委托外单位利用",2.67,"危废"]
[13,"其他危废","吨",{"$f":"'2025年2季度固体废物管理台账'!H15","v":0.92},null,null,"委托外单位处置",0.92,"危废"]
[14,"废线路板","吨",{"$f":"'2025年2季度固体废物管理台账'!H16","v":1.38},null,null,"委托外单位处置",9.1,"危废"]
[15,"废防冻液","吨",{"$f":"'2025年2季度固体废物管理台账'!H17","v":4.23},null,null,"委托外单位处置",5.43,"危废"]

{"sheet":"车辆2025年3季度 ","index":6,"n_rows":26,"n_cols":7,"rows_kept":26,"hidden":true,"merged":[[0,0,0,6]]}
["北京华新凯业物资再生有限公司2025年3季度报废车辆管理台账"]
["序号","车辆类别","单位","前期贮存量","回收量","处置量","贮存量"]
[1,"货车","辆",{"$f":"车辆2025年2季度!G3","v":45},null,null,{"$f":"D3+E3-F3","v":45}]
[2,"客车","辆",{"$f":"车辆2025年2季度!G4","v":469},null,null,469]
[3,"其他","辆",{"$f":"车辆2025年2季度!G5","v":167},null,null,88]
[null,"总计","辆",{"$f":"SUM(D3:D5)","v":681},0,0,602]
[null,"摩托车","辆",{"$f":"车辆2025年2季度!G7","v":160},null,null,160]
[null,"轮式或者履带式工程机械","辆",{"$f":"车辆2025年2季度!G8","v":7}]
[null,"汽车","辆",{"$f":"D6-D7","v":521},0,0,442]
{"$rows_empty":16}
[{"$nulls":3},"a"]

{"sheet":"2025年4季度固体废物管理台账","index":7,"n_rows":17,"n_cols":9,"rows_kept":17,"hidden":true,"merged":[[0,0,0,8]]}
["北京华新凯业物资再生有限公司2025年4季度固体废物管理台账"]
["序号","物料名称","库存单位","前期贮存量","产生量","处理量","流向","贮存量","属性"]
[1,"废锂电池","吨",{"$f":"'2025年3季度固体废物管理台账'!H3","v":0},null,null,"委托外单位利用",{"$f":"D3+E3-F3","v":0}]
[2,"废钢铁","吨",{"$f":"'2025年3季度固体废物管理台账'!H4","v":325.69},null,null,"委托外单位利用",325.69]
[3,"废铝","吨",{"$f":"'2025年3季度固体废物管理台账'!H5","v":38.8},null,null,"委托外单位利用",38.8]
[4,"废配件","个",{"$f":"'2025年3季度固体废物管理台账'!H6","v":12275},null,null,"委托外单位利用",12275]
[5,"废轮胎","吨",{"$f":"'2025年3季度固体废物管理台账'!H7","v":2.2},null,null,"委托外单位利用",2.2]
[6,"废塑料","吨",{"$f":"'2025年3季度固体废物管理台账'!H8","v":17.88},null,null,"委托外单位利用",17.88]
[7,"废铜","吨",{"$f":"'2025年3季度固体废物管理台账'!H9","v":19.71},null,null,"委托外单位利用",19.71]
[8,"废橡胶","吨",{"$f":"'2025年3季度固体废物管理台账'!H10","v":4.93},null,null,"委托外单位利用",4.93]
[9,"废杂料","吨",{"$f":"'2025年3季度固体废物管理台账'!H11","v":12.2799999999999},null,null,"委托外单位利用",12.2799999999999]
[10,"废铅酸蓄电池","吨",{"$f":"'2025年3季度固体废物管理台账'!H12","v":37.97},null,null,"委托外单位利用",37.97,"危废"]
[11,"废机油","吨",{"$f":"'2025年3季度固体废物管理台账'!H13","v":6.58},null,null,"委托外单位处置",6.58,"危废"]
[12,"废三元","吨",{"$f":"'2025年3季度固体废物管理台账'!H14","v":2.67},null,null,"委托外单位利用",2.67,"危废"]
[13,"其他危废","吨",{"$f":"'2025年3季度固体废物管理台账'!H15","v":0.92},null,null,"委托外单位处置",0.92,"危废"]
[14,"废线路板","吨",{"$f":"'2025年3季度固体废物管理台账'!H16","v":9.1},null,null,"委托外单位处置",9.1,"危废"]
[15,"废防冻液","吨",{"$f":"'2025年3季度固体废物管理台账'!H17","v":5.43},null,null,"委托外单位处置",5.43,"危废"]

{"sheet":"车辆2025年4季度","index":8,"n_rows":26,"n_cols":7,"rows_kept":26,"hidden":true,"merged":[[0,0,0,6]]}
["北京华新凯业物资再生有限公司2025年4季度报废车辆管理台账"]
["序号","车辆类别","单位","前期贮存量","回收量","处置量","贮存量"]
[1,"货车","辆",{"$f":"'车辆2025年3季度 '!G3","v":45},null,null,{"$f":"D3+E3-F3","v":45}]
[2,"客车","辆",{"$f":"'车辆2025年3季度 '!G4","v":469},null,null,469]
[3,"其他","辆",{"$f":"'车辆2025年3季度 '!G5","v":88},null,null,88]
[null,"总计","辆",{"$f":"SUM(D3:D5)","v":602},0,0,602]
[null,"摩托车","辆",{"$f":"'车辆2025年3季度 '!G7","v":160},null,null,160]
[null,"轮式或者履带式工程机械","辆",{"$f":"'车辆2025年3季度 '!G8","v":0},null,null,0]
[null,"汽车","辆",{"$f":"D6-D7","v":442},0,0,442]
{"$rows_empty":16}
[{"$nulls":3},"a"]

{"sheet":"2021年固体废物管理台账","index":9,"n_rows":14,"n_cols":9,"rows_kept":14,"hidden":true,"merged":[[0,0,0,8]]}
["北京华新凯业物资再生有限公司2021年固体废物管理台账"]
["序号","物料名称","库存单位","前期贮存量","产生量","处理量","流向","贮存量","属性"]
[1,"废钢铁","吨",{"$nulls":3},"委托外单位利用"]
[2,"废铝","吨",{"$nulls":3},"委托外单位利用"]
[3,"废配件","个",{"$nulls":3},"委托外单位利用"]
[4,"废轮胎","个",{"$nulls":3},"委托外单位利用"]
[5,"废塑料","吨",{"$nulls":3},"委托外单位利用"]
[6,"废铜","吨",{"$nulls":3},"委托外单位利用"]
[7,"废橡胶","吨",{"$nulls":3},"委托外单位利用"]
[8,"杂料库","吨",{"$nulls":3},"委托外单位利用"]
[9,"电池","吨",{"$nulls":3},"委托单位利用",null,"危废"]
[10,"机油","吨",{"$nulls":3},"委托外单位处置",null,"危废"]
[11,"三元","吨",{"$nulls":3},"委托单位利用",null,"危废"]
[12,"其他危废","吨",{"$nulls":3},"委托外单位处置",null,"危废"]